View In:
ArcGIS JavaScript
ArcGIS Online Map Viewer
ArcGIS Earth
ArcGIS Pro
Service Description: NOAA Coastal Change Analysis Program (C-CAP) high resolution (1 meter) land cover data for New Orleans parishes. Derived from data collected in 2017.
The NOAA Coastal Change Analysis Program (C-CAP) produces national standardized land cover and change products for the coastal regions of the U.S. C-CAP products inventory coastal intertidal areas, wetlands, and adjacent uplands with the goal of monitoring changes in these habitats through time. These maps are developed utilizing high resolution aerial imagery, along with lidar and various available ancillary information. This trend information gives important feedback to managers on the success or failure of management policies and programs and aid in developing a scientific understanding of the Earth system and its response to natural and human-induced changes. This understanding allows for the prediction of impacts due to these changes and the assessment of their cumulative effects, helping coastal resource managers make more informed regional decisions.
Map Name: Layers
Legend
All Layers and Tables
Dynamic Legend
Dynamic All Layers
Layers:
Description:
Service Item Id: 5a090b33b82747139058a7d78be4d3ce
Copyright Text: NOAA Office for Coastal Management (OCM)
Spatial Reference:
102100
(3857)
LatestVCSWkid(0)
Single Fused Map Cache: true
Tile Info:
- Height: 256
- Width: 256
- DPI: 96
-
Levels of Detail: 24
-
Level ID: 0
[ Start Tile, End Tile ]
- Resolution: 156543.03392800014
- Scale: 5.91657527591555E8
-
Level ID: 1
[ Start Tile, End Tile ]
- Resolution: 78271.51696399994
- Scale: 2.95828763795777E8
-
Level ID: 2
[ Start Tile, End Tile ]
- Resolution: 39135.75848200009
- Scale: 1.47914381897889E8
-
Level ID: 3
[ Start Tile, End Tile ]
- Resolution: 19567.87924099992
- Scale: 7.3957190948944E7
-
Level ID: 4
[ Start Tile, End Tile ]
- Resolution: 9783.93962049996
- Scale: 3.6978595474472E7
-
Level ID: 5
[ Start Tile, End Tile ]
- Resolution: 4891.96981024998
- Scale: 1.8489297737236E7
- Format: PNG8
- Compression Quality: 0.0
- Origin: X: -2.0037508342787E7
Y: 2.0037508342787E7
- Spatial Reference: 102100
(3857)
LatestVCSWkid(0)
Storage Info:
- Storage Format: esriMapCacheStorageModeCompactV2
- Packet Size: 128
Initial Extent:
XMin: -1.0506669574571323E7
YMin: 3547841.3960636766
XMax: -9173166.907565989
YMax: 3910321.287690127
Spatial Reference: 102100
(0)
LatestVCSWkid(0)
Full Extent:
XMin: -1.9864249908193476E7
YMin: -1643352.8198602947
XMax: 1.6269835388947265E7
YMax: 6275284.732697983
Spatial Reference: 102100
(0)
LatestVCSWkid(0)
Units: esriMeters
Supported Image Format Types: PNG32,PNG24,PNG,JPG,DIB,TIFF,EMF,PS,PDF,GIF,SVG,SVGZ,BMP
Document Info:
Title: C-CAP Land Cover, New Orleans Area Parishes, Louisiana, 2017
Author: NOAA Office for Coastal Management (OCM)
Comments: NOAA Coastal Change Analysis Program (C-CAP) high resolution (1 meter) land cover data for New Orleans parishes. Derived from data collected in 2017.
The NOAA Coastal Change Analysis Program (C-CAP) produces national standardized land cover and change products for the coastal regions of the U.S. C-CAP products inventory coastal intertidal areas, wetlands, and adjacent uplands with the goal of monitoring changes in these habitats through time. These maps are developed utilizing high resolution aerial imagery, along with lidar and various available ancillary information. This trend information gives important feedback to managers on the success or failure of management policies and programs and aid in developing a scientific understanding of the Earth system and its response to natural and human-induced changes. This understanding allows for the prediction of impacts due to these changes and the assessment of their cumulative effects, helping coastal resource managers make more informed regional decisions.
Subject: NOAA Coastal Change Analysis Program (C-CAP) high resolution (1 meter) land cover data for New Orleans parishes. Derived from data collected in 2017.
Category:
Keywords: land cover
AntialiasingMode: None
TextAntialiasingMode: Force
Supports Dynamic Layers: true
MaxRecordCount: 1000
MaxSelectionCount: 2000
MaxImageHeight: 4096
MaxImageWidth: 4096
Supported Query Formats: JSON, geoJSON, PBF
Supports Query Data Elements: true
Min Scale: 5.91657527591555E8
Max Scale: 4513.988705
Supports Datum Transformation: true
Child Resources:
Info
Dynamic Layer
Supported Operations:
Export Map
Identify
QueryLegends
QueryDomains
Find
Return Updates
Generate KML