View In:
ArcGIS JavaScript
ArcGIS Online Map Viewer
ArcGIS Earth
ArcGIS Pro
Service Description:
Map Name: Layers
Legend
All Layers and Tables
Dynamic Legend
Dynamic All Layers
Layers:
Description:
Service Item Id: 007fcc49e97449c391a4e0eab6e715d4
Copyright Text:
Spatial Reference:
102100
(3857)
LatestVCSWkid(0)
Single Fused Map Cache: true
Tile Info:
- Height: 256
- Width: 256
- DPI: 96
-
Levels of Detail: 20
-
Level ID: 0
[ Start Tile, End Tile ]
- Resolution: 156543.03392800014
- Scale: 5.91657527591555E8
-
Level ID: 1
[ Start Tile, End Tile ]
- Resolution: 78271.51696399994
- Scale: 2.95828763795777E8
-
Level ID: 2
[ Start Tile, End Tile ]
- Resolution: 39135.75848200009
- Scale: 1.47914381897889E8
-
Level ID: 3
[ Start Tile, End Tile ]
- Resolution: 19567.87924099992
- Scale: 7.3957190948944E7
-
Level ID: 4
[ Start Tile, End Tile ]
- Resolution: 9783.93962049996
- Scale: 3.6978595474472E7
-
Level ID: 5
[ Start Tile, End Tile ]
- Resolution: 4891.96981024998
- Scale: 1.8489297737236E7
- Format: PNG8
- Compression Quality: 0.0
- Origin: X: -2.0037508342787E7
Y: 2.0037508342787E7
- Spatial Reference: 102100
(3857)
LatestVCSWkid(0)
Storage Info:
- Storage Format: esriMapCacheStorageModeCompactV2
- Packet Size: 128
Initial Extent:
XMin: -1.5988932876305718E7
YMin: 5918486.90335343
XMax: -5703847.2061582105
YMax: 7338042.998451915
Spatial Reference: 102100
(3857)
LatestVCSWkid(0)
Full Extent:
XMin: -8321463.7992
YMin: 4888012.434600003
XMax: -8321103.799200002
YMax: 4888612.4346000105
Spatial Reference: 102100
(3857)
LatestVCSWkid(0)
Units: esriMeters
Supported Image Format Types: PNG32,PNG24,PNG,JPG,DIB,TIFF,EMF,PS,PDF,GIF,SVG,SVGZ,BMP
Document Info:
Title: CFEM_LandCover_19962010Change
Author: NOAA Office for Coastal Management
Comments: This map service was created to support the National Oceanic and Atmospheric Administration (NOAA) Office for Coastal Management’s (OCM) Coastal Flood Exposure Mapper. The purpose of the online mapping tool is to provide coastal managers, planners, and stakeholders a preliminary look at exposures to coastal flooding hazards. The Mapper is a screening-level tool that uses nationally consistent data sets and analyses. Data and maps provided can be used at several scales to help communities initiate resilience planning efforts. As with all remotely sensed data, all features should be verified with a site visit. The dataset is provided "as is," without warranty to its performance, merchantable state, or fitness for any particular purpose. The entire risk associated with the results and performance of this dataset is assumed by the user. This dataset should be used strictly as a planning reference and not for navigation, permitting, or other legal purposes.
For more information, visit the Coastal Flood Exposure Mapper (https://coast.noaa.gov/floodexposure).
Send questions or comments to the NOAA Office for Coastal Management (coastal.info@noaa.gov).
Subject: Map service to support the Coastal Flood Exposure Mapper.
Category:
Keywords: Coastal, Flooding, Exposure, Hazards, NOAA, Coastal Hazards, C-CAP, Land Cover, Developed, Land Cover Change
AntialiasingMode: None
TextAntialiasingMode: Force
Supports Dynamic Layers: true
MaxRecordCount: 1000
MaxImageHeight: 4096
MaxImageWidth: 4096
Supported Query Formats: JSON, geoJSON, PBF
Supports Query Data Elements: true
Min Scale: 5.91657527591555E8
Max Scale: 4513.988705
Supports Datum Transformation: true
Child Resources:
Info
Dynamic Layer
Supported Operations:
Export Map
Identify
QueryLegends
QueryDomains
Find
Return Updates
Generate KML